BEGIN:VCALENDAR
VERSION:2.0
PRODID:-//forsythcountycasa.org//NONSGML kigkonsult.se iCalcreator 2.30.10/
 /
CALSCALE:GREGORIAN
METHOD:PUBLISH
UID:00b05b5a-5c2a-4460-9886-853b8fb01102
X-WR-CALDESC:Zoom link  https://us06web.zoom.us/webinar/register/WN_Pzq254P
 nSf-W0nCuDPOATw\n
X-WR-RELCALID:2b7a2c0a1c2c117089bf094fead3ca5e
X-WR-TIMEZONE:America/New_York
BEGIN:VTIMEZONE
TZID:America/New_York
BEGIN:STANDARD
TZNAME:EST
DTSTART:20251102T020000
TZOFFSETFROM:-0400
TZOFFSETTO:-0500
RDATE:20261101T020000
END:STANDARD
BEGIN:DAYLIGHT
TZNAME:EDT
DTSTART:20260308T020000
TZOFFSETFROM:-0500
TZOFFSETTO:-0400
RDATE:20270314T020000
END:DAYLIGHT
END:VTIMEZONE
BEGIN:VEVENT
UID:8e7b338c-51fe-4e8d-9af2-ea914c5074db
DTSTAMP:20260421T133050Z
DESCRIPTION:Zoom link  https://us06web.zoom.us/webinar/register/WN_Pzq254Pn
 Sf-W0nCuDPOATw\n
DTSTART;TZID=America/New_York:20260415T113000
DTEND;TZID=America/New_York:20260415T130000
LOCATION:https://gw3154.fortimail.com/fmlurlsvc/?fewReq=:B:JVk/NDA0PyNzODcr
 NSNsYTg1ND81NCN2bGJrZHFwd2A4MjRnYTdnYTJmY2NmYGY1MDU1PDA0MDJkMDdmNzJmNjMwMG
 BkMWBnYyNxODQyMjA9NjM1MDIjdGxhODM2RENpN2s1NTU0NTcyKDM2RENpN2s3NTU0NTcyI3dm
 dXE4ZGdkaWlkd0Vjand2fHFtZmorZmpoI2Y4PDAjb
SUMMARY:Educational and Legal Protections for Youth in Foster Care
END:VEVENT
END:VCALENDAR
