BEGIN:VCALENDAR
VERSION:2.0
PRODID:-//forsythcountycasa.org//NONSGML kigkonsult.se iCalcreator 2.30.10/
 /
CALSCALE:GREGORIAN
METHOD:PUBLISH
UID:a035581d-f7c8-4e4f-b950-64ca4b6c4c9e
X-WR-CALDESC:
X-WR-RELCALID:6f05c275f2d29b5cbb57a3a9d468a584
X-WR-TIMEZONE:America/New_York
BEGIN:VTIMEZONE
TZID:America/New_York
BEGIN:STANDARD
TZNAME:EST
DTSTART:20251102T020000
TZOFFSETFROM:-0400
TZOFFSETTO:-0500
RDATE:20261101T020000
END:STANDARD
BEGIN:DAYLIGHT
TZNAME:EDT
DTSTART:20260308T020000
TZOFFSETFROM:-0500
TZOFFSETTO:-0400
RDATE:20270314T020000
END:DAYLIGHT
END:VTIMEZONE
BEGIN:VEVENT
UID:017ddb25-cd84-4fb5-a94e-51bfe54fca31
DTSTAMP:20260421T131450Z
DESCRIPTION:
DTSTART;TZID=America/New_York:20260416T060000
DTEND;TZID=America/New_York:20260416T220000
LOCATION:
SUMMARY:Boots and Boogie
END:VEVENT
END:VCALENDAR
